BEGIN:VCALENDAR
VERSION:2.0
PRODID:-//ChamberMaster//Event Calendar 2.0//EN
METHOD:PUBLISH
X-PUBLISHED-TTL:P3D
REFRESH-INTERVAL:P3D
CALSCALE:GREGORIAN
BEGIN:VEVENT
DTSTART:20161213T010000Z
DTEND:20161213T010000Z
X-MICROSOFT-CDO-ALLDAYEVENT:FALSE
SUMMARY:High School Christmas Concert
DESCRIPTION:High School Choir Christmas Concert at the High School Auditorium
X-ALT-DESC;FMTTYPE=text/html:High School Choir Christmas Concert at the High School Auditorium
LOCATION:Elkhorn High School Auditorium
UID:e.2059.4564
SEQUENCE:3
DTSTAMP:20260423T153556Z
URL:https://business.elkhornchamber.com/events/details/high-school-christmas-concert-4564
END:VEVENT

END:VCALENDAR
