BEGIN:VCALENDAR
VERSION:2.0
PRODID:-//ChamberMaster//Event Calendar 2.0//EN
METHOD:PUBLISH
X-PUBLISHED-TTL:P3D
REFRESH-INTERVAL:P3D
CALSCALE:GREGORIAN
BEGIN:VEVENT
DTSTART:20161220T010000Z
DTEND:20161220T010000Z
X-MICROSOFT-CDO-ALLDAYEVENT:FALSE
SUMMARY:High School Band Christmas Concert
DESCRIPTION:Elkhorn High School Band Christmas Concert at the High School Auditorium.
X-ALT-DESC;FMTTYPE=text/html:Elkhorn High School Band Christmas Concert at the High School Auditorium.
LOCATION:Elkhorn High School Auditorium
UID:e.2059.4565
SEQUENCE:3
DTSTAMP:20260423T135550Z
URL:https://business.elkhornchamber.com/events/details/high-school-band-christmas-concert-4565
END:VEVENT

END:VCALENDAR
