BEGIN:VCALENDAR
VERSION:2.0
PRODID:-//ChamberMaster//Event Calendar 2.0//EN
METHOD:PUBLISH
X-PUBLISHED-TTL:P3D
REFRESH-INTERVAL:P3D
CALSCALE:GREGORIAN
BEGIN:VEVENT
DTSTART:20160317T003000Z
DTEND:20160317T003000Z
X-MICROSOFT-CDO-ALLDAYEVENT:FALSE
SUMMARY:Henry V - American Shakespeare Center
DESCRIPTION:"Once more unto the breach\, dear friends\, once more\; or close the wall up with our English dead!" The story of England's hero-king and the greatest upset in European military history is Shakespeare's finale to his great history plays. More than that\, Henry V   at once touching\, heroic\, savage\, and comic   explores the nature of greatness and its connection to theatre\; and\, perhaps more than any other of Shakespeare's works\, it makes the audience part of the story. \n"What Shakespeare wrote\, this cast brings to vivid life "\n\n~Shakespeareances
X-ALT-DESC;FMTTYPE=text/html:<p><em>&quot\;Once more unto the breach\, dear friends\, once more\; or close the wall up with our English dead!&quot\;</em> The story of England&rsquo\;s hero-king and the greatest upset in European military history is Shakespeare&rsquo\;s finale to his great history plays. More than that\, <em>Henry V</em> &ndash\; at once touching\, heroic\, savage\, and comic &ndash\; explores the nature of greatness and its connection to theatre\; and\, perhaps more than any other of Shakespeare&#39\;s works\, it makes the audience part of the story.<em> </em></p>\n<em>&ldquo\;What Shakespeare wrote\, this cast brings to vivid life&hellip\;&rdquo\;</em><br />\n~Shakespeareances
LOCATION:Young Auditorium Whitewater
UID:e.2059.2070
SEQUENCE:3
DTSTAMP:20260424T045329Z
URL:https://business.elkhornchamber.com/events/details/henry-v-american-shakespeare-center-03-16-2016-2070
END:VEVENT

END:VCALENDAR
