BEGIN:VCALENDAR
VERSION:2.0
PRODID:-//ChamberMaster//Event Calendar 2.0//EN
METHOD:PUBLISH
X-PUBLISHED-TTL:P3D
REFRESH-INTERVAL:P3D
CALSCALE:GREGORIAN
BEGIN:VEVENT
DTSTART:20160727T180000Z
DTEND:20160727T200000Z
X-MICROSOFT-CDO-ALLDAYEVENT:FALSE
SUMMARY:Heart Health Q & A with Larry Bergen from Beloit Health Systems
DESCRIPTION:Larry Bergen from Beloit Memorial Health Systems will be discussing hot topics relating to heart health and opening the floor for questions and concerns.
X-ALT-DESC;FMTTYPE=text/html:Larry Bergen from Beloit Memorial Health Systems will be discussing hot topics relating to heart health and opening the floor for questions and concerns.
LOCATION:Atrium Senior Living of Williams Bay at Sherwood Lodge. 116 Cherry St. Williams Bay\, 53191
UID:e.2059.3463
SEQUENCE:3
DTSTAMP:20260423T221231Z
URL:https://business.elkhornchamber.com/events/details/heart-health-q-a-with-larry-bergen-from-beloit-health-systems-07-27-2016-3463
END:VEVENT

END:VCALENDAR
