BEGIN:VCALENDAR
VERSION:2.0
PRODID:-//ChamberMaster//Event Calendar 2.0//EN
METHOD:PUBLISH
X-PUBLISHED-TTL:P3D
REFRESH-INTERVAL:P3D
CALSCALE:GREGORIAN
BEGIN:VEVENT
DTSTART:20160928T140000Z
DTEND:20160928T163000Z
X-MICROSOFT-CDO-ALLDAYEVENT:FALSE
SUMMARY:Healthy Living with Diabetes Workshop
DESCRIPTION:This researched and proven workshop is designed to help adults with type 2 diabetes or pre-diabetes learn skills and increase their confidence in managing their diabetes.  The workshop meets for 2 1/2 hours once a week for six weeks. Healthy Living with Diabetes does not replace existing treatments\, but rather compliments the treatment a participant receives.
X-ALT-DESC;FMTTYPE=text/html:This researched and proven workshop is designed to help adults with type 2 diabetes or pre-diabetes learn skills and increase their confidence in managing their diabetes.&nbsp\; The workshop meets for 2 1/2 hours once a week for six weeks. Healthy Living with Diabetes does not replace existing treatments\, but rather compliments the treatment a participant receives.
LOCATION:Atrium Senior Living of Williams Bay of Sherwood Lodge Community Room 116 Cherry St. Williams Bay\, WI 53191
UID:e.2059.4455
SEQUENCE:3
DTSTAMP:20260423T191939Z
URL:https://business.elkhornchamber.com/events/details/healthy-living-with-diabetes-workshop-09-28-2016-4455
END:VEVENT

END:VCALENDAR
