BEGIN:VCALENDAR
VERSION:2.0
PRODID:-//ChamberMaster//Event Calendar 2.0//EN
METHOD:PUBLISH
X-PUBLISHED-TTL:P3D
REFRESH-INTERVAL:P3D
CALSCALE:GREGORIAN
BEGIN:VEVENT
DTSTART:20180806T140000Z
DTEND:20180917T163000Z
X-MICROSOFT-CDO-ALLDAYEVENT:FALSE
SUMMARY:Healthy Living with Diabetes
DESCRIPTION:Monday\, August 6- September 17\, 2018 (no class Monday September 3) What is Living with Diabetes? This researched and proven workshop is designed to help adults with type 2 diabetes or pre-diabetes learn skills and increase their confidence in managing their diabetes. The workshop meets for 2 1/2 hours once a week for 6 weeks. Healthy Living with Diabetes does not replace existing treatments\, but rather complements the treatments a participant receives. Who should take the workshop? Adults with type 2 diabetes\, Adults with prediabetes or Adults living with someone who has diabetes
X-ALT-DESC;FMTTYPE=text/html:Monday\, August 6- September 17\, 2018 (no class Monday September 3) What is Living with Diabetes? This researched and proven workshop is designed to help adults with type 2 diabetes or pre-diabetes learn skills and increase their confidence in managing their diabetes. The workshop meets for 2 1/2 hours once a week for 6 weeks. Healthy Living with Diabetes does not replace existing treatments\, but rather complements the treatments a participant receives. Who should take the workshop? Adults with type 2 diabetes\, Adults with prediabetes or Adults living with someone who has diabetes
LOCATION:Walworth Co. Human Services - Conference room E Use West Entrance W 4051 County Road NN\, Elkhorn
UID:e.2059.9129
SEQUENCE:3
DTSTAMP:20260422T021233Z
URL:https://business.elkhornchamber.com/events/details/healthy-living-with-diabetes-9129
END:VEVENT

END:VCALENDAR
