BEGIN:VCALENDAR
VERSION:2.0
PRODID:-//ChamberMaster//Event Calendar 2.0//EN
METHOD:PUBLISH
X-PUBLISHED-TTL:P3D
REFRESH-INTERVAL:P3D
CALSCALE:GREGORIAN
BEGIN:VEVENT
DTSTART:20150401T150000Z
DTEND:20150401T180000Z
X-MICROSOFT-CDO-ALLDAYEVENT:FALSE
SUMMARY:Health Insurance Special Enrollment
DESCRIPTION:The federal government has announced a one-time special health insurance enrollment period for individuals and families who were uninsured in 2014. Avoid the penalty in 2015 by enrolling now. Local\, free\, in-person assistance is available. The enrollment period is from March 15th - April 30th.
X-ALT-DESC;FMTTYPE=text/html:The federal government has announced a one-time special health insurance enrollment period for individuals and families who were uninsured in 2014. Avoid the penalty in 2015 by enrolling now. Local\, free\, in-person assistance is available. The enrollment period is from March 15th - April 30th.
LOCATION:Government Center Room 216 100 W. Walworth St.\, Elkhorn
UID:e.2059.1147
SEQUENCE:3
DTSTAMP:20260424T225211Z
URL:https://business.elkhornchamber.com/events/details/health-insurance-special-enrollment-04-01-2015-1147
END:VEVENT

END:VCALENDAR
