BEGIN:VCALENDAR
VERSION:2.0
PRODID:-//ChamberMaster//Event Calendar 2.0//EN
METHOD:PUBLISH
X-PUBLISHED-TTL:P3D
REFRESH-INTERVAL:P3D
CALSCALE:GREGORIAN
BEGIN:VEVENT
DTSTART:20160618T130000Z
DTEND:20160618T200000Z
X-MICROSOFT-CDO-ALLDAYEVENT:FALSE
SUMMARY:HDL Tenant Rummage/Craft Sale
DESCRIPTION:HDL Moving & Storage tenants participate and set up their own "Store" in front of their storage unit to "Clean House" and sell their dispensable items. It creates a "Mini Flea Market" that is open to the public for the day.
X-ALT-DESC;FMTTYPE=text/html:HDL Moving &amp\; Storage tenants participate and set up their own &quot\;Store&quot\; in front of their storage unit to &quot\;Clean House&quot\; and sell their dispensable items. It creates a &quot\;Mini Flea Market&quot\; that is open to the public for the day.
LOCATION:HDL Moving & Storage. W4191 State Road 11. 2 miles East of Elkhorn at the I-43 interchange.
UID:e.2059.2922
SEQUENCE:3
DTSTAMP:20260423T235209Z
URL:https://business.elkhornchamber.com/events/details/hdl-tenant-rummage-craft-sale-06-18-2016-2922
END:VEVENT

END:VCALENDAR
