BEGIN:VCALENDAR
VERSION:2.0
PRODID:-//ChamberMaster//Event Calendar 2.0//EN
METHOD:PUBLISH
X-PUBLISHED-TTL:P3D
REFRESH-INTERVAL:P3D
CALSCALE:GREGORIAN
BEGIN:VEVENT
DTSTART:20151123T003000Z
DTEND:20151123T003000Z
X-MICROSOFT-CDO-ALLDAYEVENT:FALSE
SUMMARY:Haunted Wisconsin
DESCRIPTION:Get ready for a scary night of ghosts\, wicked spirits\, and deadly poltergeist as i have put all of my most haunted cases into one creepy presentation for the Elkhorn Public Library. As the author of numerous books on Wisconsin folklore\, I have combined all of my research of mysterious Elkhorn and the state.
X-ALT-DESC;FMTTYPE=text/html:Get ready for a scary night of ghosts\, wicked spirits\, and deadly poltergeist as i have put all of my most haunted cases into one creepy presentation for the Elkhorn Public Library. As the author of numerous books on Wisconsin folklore\, I have combined all of my research of mysterious Elkhorn and the state. &nbsp\;&nbsp\;&nbsp\;&nbsp\;
LOCATION:Elkhorn Public Library 101 North Washington Elkhorn\, WI
UID:e.2059.1741
SEQUENCE:3
DTSTAMP:20260424T111907Z
URL:https://business.elkhornchamber.com/events/details/haunted-wisconsin-11-22-2015-1741
END:VEVENT

END:VCALENDAR
