BEGIN:VCALENDAR
VERSION:2.0
PRODID:-//ChamberMaster//Event Calendar 2.0//EN
METHOD:PUBLISH
X-PUBLISHED-TTL:P3D
REFRESH-INTERVAL:P3D
CALSCALE:GREGORIAN
BEGIN:VEVENT
DTSTART:20151031T190000Z
DTEND:20151101T000000Z
X-MICROSOFT-CDO-ALLDAYEVENT:FALSE
SUMMARY:Halloween Open House~Core Rehabilitation
DESCRIPTION:Core Rehabilitation Outpatient Therapy offering aquatic therapy\, physical therapy\, occupational therapy and speech therapy Now Accepting Patients! Come explore a fresh perspective on modern rehabilitation- Got Pain? Let's et to the CORE of the problem! We are opening our doors for a sneak peak of our new 93 degree therapy pool- the only one of it's kind open to the public in Wisconsin. Free treats and Tours\, drawings for free Aquatic therapy session.    \n\nVendor Fair 2-5\n\nTrick or Treating 5-7
X-ALT-DESC;FMTTYPE=text/html:Core Rehabilitation Outpatient Therapy offering aquatic therapy\, physical therapy\, occupational therapy and speech therapy Now Accepting Patients! Come explore a fresh perspective on modern rehabilitation- Got Pain? Let&#39\;s et to the CORE of the problem! We are opening our doors for a sneak peak of our new 93 degree therapy pool- the only one of it&#39\;s kind open to the public in Wisconsin. Free treats and Tours\, drawings for free Aquatic therapy session.&nbsp\;&nbsp\;&nbsp\;&nbsp\;<br />\nVendor Fair 2-5<br />\nTrick or Treating 5-7
LOCATION:Holton Manor 645 N Church St Elkhorn WI
UID:e.2059.1728
SEQUENCE:3
DTSTAMP:20260424T124248Z
URL:https://business.elkhornchamber.com/events/details/halloween-open-house-core-rehabilitation-10-31-2015-1728
END:VEVENT

END:VCALENDAR
