BEGIN:VCALENDAR
VERSION:2.0
PRODID:-//ChamberMaster//Event Calendar 2.0//EN
METHOD:PUBLISH
X-PUBLISHED-TTL:P3D
REFRESH-INTERVAL:P3D
CALSCALE:GREGORIAN
BEGIN:VEVENT
DTSTART:20141012T220000Z
DTEND:20141013T010000Z
X-MICROSOFT-CDO-ALLDAYEVENT:FALSE
SUMMARY:Halloween Dinner Theatre - Sherlock Holmes
DESCRIPTION:Join the heroes of Baker Street for an evening of detection\, mystery and quick-witted humor in this original theatrical series\, inspired by the works of Sir Arthur Conan Doyle. Your evening's amusement begins with a different themed meal each weekend\, followed by a lamp lit walk to the period-perfect theater where the interactive drama unfolds.\n\n\n\nThere are three different mysteries and each is performed on a different weekend. Choose one\, two or all three. Each story is independent and can be enjoyed without seeing either of the others.
X-ALT-DESC;FMTTYPE=text/html:Join the heroes of Baker Street for an evening of detection\, mystery and quick-witted humor in this original theatrical series\, inspired by the works of Sir Arthur Conan Doyle. Your evening&#39\;s amusement begins with a different themed meal each weekend\, followed by a lamp lit walk to the period-perfect theater where the interactive drama unfolds.<br />\n<br />\nThere are three different mysteries and each is performed on a different weekend. Choose one\, two or all three. Each story is independent and can be enjoyed without seeing either of the others.
LOCATION:Old World Wisconsin W372 S9727 Hwy 67\, Eagle
UID:e.2059.740
SEQUENCE:3
DTSTAMP:20260425T115931Z
URL:https://business.elkhornchamber.com/events/details/halloween-dinner-theatre-sherlock-holmes-10-12-2014-740
END:VEVENT

END:VCALENDAR
