BEGIN:VCALENDAR
VERSION:2.0
PRODID:-//ChamberMaster//Event Calendar 2.0//EN
METHOD:PUBLISH
X-PUBLISHED-TTL:P3D
REFRESH-INTERVAL:P3D
CALSCALE:GREGORIAN
BEGIN:VEVENT
DTSTART:20161110T000000Z
DTEND:20161110T020000Z
X-MICROSOFT-CDO-ALLDAYEVENT:FALSE
SUMMARY:Growing up in the 2000's
DESCRIPTION:Join us for this special program designed  for moms and daughters in 4th\, 5th and 6th grade. This program is hosted by a registered nurse who will discuss puberty and menstruation. The  session is an excellent opportunity for mothers and daughters to begin talking about important life changes.
X-ALT-DESC;FMTTYPE=text/html:Join us for this special program designed&nbsp\; for moms and daughters in 4th\, 5th and 6th grade. This program is hosted by a registered nurse who will discuss puberty and menstruation. The&nbsp\; session is an excellent opportunity for mothers and daughters to begin talking about important life changes.
LOCATION:Aurora Wellness Center Classroom C 300 McCanna Parkway Burlington\, WI 53105
UID:e.2059.2133
SEQUENCE:3
DTSTAMP:20260423T153618Z
URL:https://business.elkhornchamber.com/events/details/growing-up-in-the-2000-s-11-09-2016-2133
END:VEVENT

END:VCALENDAR
