BEGIN:VCALENDAR
VERSION:2.0
PRODID:-//ChamberMaster//Event Calendar 2.0//EN
METHOD:PUBLISH
X-PUBLISHED-TTL:P3D
REFRESH-INTERVAL:P3D
CALSCALE:GREGORIAN
BEGIN:VEVENT
DTSTART:20150816T003000Z
DTEND:20150816T020000Z
X-MICROSOFT-CDO-ALLDAYEVENT:FALSE
SUMMARY:Great Midwest Pro Rodeo
DESCRIPTION:
X-ALT-DESC;FMTTYPE=text/html:
LOCATION:Walworth County Fairgrounds 411 E. Court Street\, Elkhorn
UID:e.2059.1644
SEQUENCE:3
DTSTAMP:20260424T161022Z
URL:https://business.elkhornchamber.com/events/details/great-midwest-pro-rodeo-08-15-2015-1644
END:VEVENT

END:VCALENDAR
