BEGIN:VCALENDAR
VERSION:2.0
PRODID:-//ChamberMaster//Event Calendar 2.0//EN
METHOD:PUBLISH
X-PUBLISHED-TTL:P3D
REFRESH-INTERVAL:P3D
CALSCALE:GREGORIAN
BEGIN:VEVENT
DTSTART;VALUE=DATE:20160624
DTEND;VALUE=DATE:20160625
TRANSP:TRANSPARENT
X-MICROSOFT-CDO-ALLDAYEVENT:TRUE
SUMMARY:Grandparent's Week at Sunset Pool
DESCRIPTION:Join us at the Sunset Pool to thank our Grandma or Grandpa on Grandparent's Week! Only $1 admission all week long! Seniors must be 55 or older.
X-ALT-DESC;FMTTYPE=text/html:Join us at the Sunset Pool to thank our Grandma or Grandpa on Grandparent's Week! Only $1 admission all week long! Seniors must be 55 or older.
LOCATION:Sunset Pool in Elkhorn Located on Devendorf St\, West Centrailia and Park Avenue.
UID:e.2059.3522
SEQUENCE:3
DTSTAMP:20260423T234647Z
URL:https://business.elkhornchamber.com/events/details/grandparent-s-week-at-sunset-pool-06-24-2016-3522
END:VEVENT

END:VCALENDAR
