BEGIN:VCALENDAR
VERSION:2.0
PRODID:-//ChamberMaster//Event Calendar 2.0//EN
METHOD:PUBLISH
X-PUBLISHED-TTL:P3D
REFRESH-INTERVAL:P3D
CALSCALE:GREGORIAN
BEGIN:VEVENT
DTSTART:20160806T150000Z
DTEND:20160806T220000Z
X-MICROSOFT-CDO-ALLDAYEVENT:FALSE
SUMMARY:Grand Opening of Terra Yard Creations
DESCRIPTION:Grand opening celebration for Terra Yard Creations 2nd location in Elkhorn. There will be giveaways\, food samples off our grills\, vendor reps for any type of outdoor living question you may have.
X-ALT-DESC;FMTTYPE=text/html:Grand opening celebration for Terra Yard Creations 2nd location in Elkhorn. There will be giveaways\, food samples off our grills\, vendor reps for any type of outdoor living question you may have.
LOCATION:202 E. Grant Street
UID:e.2059.4496
SEQUENCE:3
DTSTAMP:20260423T221052Z
URL:https://business.elkhornchamber.com/events/details/grand-opening-of-terra-yard-creations-08-06-2016-4496
END:VEVENT

END:VCALENDAR
