BEGIN:VCALENDAR
VERSION:2.0
PRODID:-//ChamberMaster//Event Calendar 2.0//EN
METHOD:PUBLISH
X-PUBLISHED-TTL:P3D
REFRESH-INTERVAL:P3D
CALSCALE:GREGORIAN
BEGIN:VEVENT
DTSTART:20160313T183000Z
DTEND:20160313T183000Z
X-MICROSOFT-CDO-ALLDAYEVENT:FALSE
SUMMARY:Girls Spring Fling
DESCRIPTION:Open to the public! Join the A+ Power Sports Girls for a fun afternoon with displays + products for sale by: Magnolia + Vine\, Thirty One.
X-ALT-DESC;FMTTYPE=text/html:Open to the public! Join the A+ Power Sports Girls for a fun afternoon with displays + products for sale by: Magnolia + Vine\, Thirty One.
LOCATION:A+ Power Sports 622 E. Court St Elkhorn\, WI
UID:e.2059.2074
SEQUENCE:3
DTSTAMP:20260424T050155Z
URL:https://business.elkhornchamber.com/events/details/girls-spring-fling-03-13-2016-2074
END:VEVENT

END:VCALENDAR
