BEGIN:VCALENDAR
VERSION:2.0
PRODID:-//ChamberMaster//Event Calendar 2.0//EN
METHOD:PUBLISH
X-PUBLISHED-TTL:P3D
REFRESH-INTERVAL:P3D
CALSCALE:GREGORIAN
BEGIN:VEVENT
DTSTART:20190925T230000Z
DTEND:20190926T000000Z
X-MICROSOFT-CDO-ALLDAYEVENT:FALSE
SUMMARY:Getting Started With Medicare
DESCRIPTION:Medicare has many options and is a critical pieces of your retirement strategy. Understand the differences between Medicare Supplement plans\, Medicare Advantage plans\, and Part D prescription plans\, plus the timing of applying for benefits.
X-ALT-DESC;FMTTYPE=text/html:Medicare has many options and is a critical pieces of your retirement strategy. Understand the differences between Medicare Supplement plans\, Medicare Advantage plans\, and Part D prescription plans\, plus the timing of applying for benefits.
LOCATION:Elkhorn Chamber
UID:e.2059.11065
SEQUENCE:3
DTSTAMP:20260421T054015Z
URL:https://business.elkhornchamber.com/events/details/getting-started-with-medicare-09-25-2019-11065
END:VEVENT

END:VCALENDAR
