BEGIN:VCALENDAR
VERSION:2.0
PRODID:-//ChamberMaster//Event Calendar 2.0//EN
METHOD:PUBLISH
X-PUBLISHED-TTL:P3D
REFRESH-INTERVAL:P3D
CALSCALE:GREGORIAN
BEGIN:VEVENT
DTSTART:20170715T140000Z
DTEND:20170715T140000Z
X-MICROSOFT-CDO-ALLDAYEVENT:FALSE
SUMMARY:Get Smoked at the Elkhorn Ribfest Neon 5K
DESCRIPTION:RibFest and Holton Manor are partnering to create an awesome 5k to kick off RibFest. Join us on July 15\, 2017 for the RibFest Neon 5K. Then stick around after the race to enjoy your discount coupon for a meal at RibFest. There will be music\, great food\, and so much more. Visit http://www.walworthcountyfair.com/p/events/291 for more information.  \nAll proceeds of the 5K go to benefit the residents of Holton Manor. It will go toward bringing in entertainment\, games\, advancing technology\, and so much more that will help enrich their lives. \n\nParticipants will receive a discount coupon to a meal at RibFest. \n\n\n\nPacket pickup:\n\n \n\nFriday July 14\, 2017: Core Rehab attached to Holton Manor (645 N Church St. in Elkhorn) from 9am-6pm\n\n \n\nSaturday July 15\, 2017: 8:00 am at the start line\n\n \n\n\n\nOptions:\n\n\n  Early Bird Registration (5K)\n\n$25.00
X-ALT-DESC;FMTTYPE=text/html:<font color="000000" size="3"><span style="color: #ff0000\; font-size: medium\; font-family: arial\, helvetica\, sans-serif\;"><span style="color: #000000\;">RibFest and Holton Manor are partnering to create an awesome 5k to kick off RibFest. Join us on July 15\, 2017 for the RibFest Neon 5K. Then stick around after the race to enjoy your discount coupon for a meal at RibFest. There will be music\, great food\, and so much more. Visit&nbsp\;<span><a href="http://www.walworthcountyfair.com/p/events/291">http://www.walworthcountyfair.com/p/events/291</a>&nbsp\;for more information.&nbsp\; </span></span></span></font>\n<p><font color="000000" size="3"><span style="font-family: arial\, helvetica\, sans-serif\;">All proceeds of the 5K go to benefit the residents of Holton Manor. It will go toward bringing in entertainment\, games\, advancing technology\, and so much more that will help enrich their lives.</span> </font></p>\n\n<div><font color="000000" size="3"><span style="font-family: arial\, helvetica\, sans-serif\;">Participants will receive a discount coupon to a meal at </span><span style="font-family: arial\, helvetica\, sans-serif\;">RibF</span><span style="font-family: arial\, helvetica\, sans-serif\;">est</span><span style="font-family: arial\, helvetica\, sans-serif\;">.&nbsp\;</span></font></div>\n\n<div class="row">\n<div class="col-md-12">\n<p><b><font color="FD5F00" size="4">Packet pickup:</font></b></p>\n\n<p>&nbsp\;</p>\n\n<div><font color="000000" size="3"><span style="font-family:"><strong>Friday July 14\, 2017</strong>:&nbsp\;</span><span style="font-family:">Core Rehab attached to Holton Manor (</span><span style="font-family:">645 N Church St. in Elkhorn)&nbsp\;</span><span style="font-family:">from 9am-6pm</span></font></div>\n\n<div>&nbsp\;</div>\n\n<div><font color="000000" size="3"><span style="font-family:"><strong>Saturday July 15\, 2017:</strong> 8:00 am at the start line</span></font></div>\n\n<p>&nbsp\;</p>\n</div>\n</div>\n\n<p><b><font color="FD5F00" size="4">Options:</font></b></p>\n\n<div class="col-md-7">\n<p><font color="000000" size="3">&bull\;&nbsp\;Early Bird Registration (5K)</font></p>\n</div>\n<font color="000000" size="3"><b>$25.00</b></font> &nbsp\;&nbsp\;
LOCATION:Walworth County Fairgrounds 411 E. Court Street Elkhorn\, Wi
UID:e.2059.4697
SEQUENCE:3
DTSTAMP:20260423T012240Z
URL:https://business.elkhornchamber.com/events/details/get-smoked-at-the-elkhorn-ribfest-neon-5k-4697
END:VEVENT

END:VCALENDAR
