BEGIN:VCALENDAR
VERSION:2.0
PRODID:-//ChamberMaster//Event Calendar 2.0//EN
METHOD:PUBLISH
X-PUBLISHED-TTL:P3D
REFRESH-INTERVAL:P3D
CALSCALE:GREGORIAN
BEGIN:VEVENT
DTSTART;VALUE=DATE:20160701
DTEND;VALUE=DATE:20160702
TRANSP:TRANSPARENT
X-MICROSOFT-CDO-ALLDAYEVENT:TRUE
SUMMARY:Get Patriotic at the Pool!
DESCRIPTION:Join the Elkhorn Sunset Pool during the 4th of July celebrations. Get Patriotic at the Pool! There will be a craft table to create your own flag\, slushie specials\, face painting\, temporary tattoos\, music\, games and extra fun holiday spirit!
X-ALT-DESC;FMTTYPE=text/html:Join the Elkhorn Sunset Pool during the 4th of July celebrations. Get Patriotic at the Pool! There will be a craft table to create your own flag\, slushie specials\, face painting\, temporary tattoos\, music\, games and extra fun holiday spirit!
LOCATION:Sunset Pool in Elkhorn Located on Devendorf St\, West Centrailia St and Park Avenue.
UID:e.2059.3534
SEQUENCE:3
DTSTAMP:20260423T220635Z
URL:https://business.elkhornchamber.com/events/details/get-patriotic-at-the-pool-07-01-2016-3534
END:VEVENT

END:VCALENDAR
