BEGIN:VCALENDAR
VERSION:2.0
PRODID:-//ChamberMaster//Event Calendar 2.0//EN
METHOD:PUBLISH
X-PUBLISHED-TTL:P3D
REFRESH-INTERVAL:P3D
CALSCALE:GREGORIAN
BEGIN:VEVENT
DTSTART:20160802T233000Z
DTEND:20160803T010000Z
X-MICROSOFT-CDO-ALLDAYEVENT:FALSE
SUMMARY:Get Fit with Rachel
DESCRIPTION:Join fitness expert Rachel Person from Four Lakes Athletic Club as she talks about the many ways you can start your journey to a healthier lifestyle.\n\n\n\nThis presentation is part of our Adult Summer Reading Program. For attending this program\, you receive a free drawing for one of our numerous Grand Prizes!
X-ALT-DESC;FMTTYPE=text/html:Join fitness expert Rachel Person from Four Lakes Athletic Club as she talks about the many ways you can start your journey to a healthier lifestyle.<br />\n<br />\n<em>This presentation is part of our Adult Summer Reading Program. For attending this program\, you receive a free drawing for one of our numerous Grand Prizes!</em>
LOCATION:Matheson Memorial Library - Community Center
UID:e.2059.3580
SEQUENCE:3
DTSTAMP:20260423T220341Z
URL:https://business.elkhornchamber.com/events/details/get-fit-with-rachel-08-02-2016-3580
END:VEVENT

END:VCALENDAR
