BEGIN:VCALENDAR
VERSION:2.0
PRODID:-//ChamberMaster//Event Calendar 2.0//EN
METHOD:PUBLISH
X-PUBLISHED-TTL:P3D
REFRESH-INTERVAL:P3D
CALSCALE:GREGORIAN
BEGIN:VEVENT
DTSTART:20180312T223000Z
DTEND:20180313T000000Z
X-MICROSOFT-CDO-ALLDAYEVENT:FALSE
SUMMARY:Genva Supply BizTank Xperience
DESCRIPTION:Geneva Supply BizTank Xperience\n\nAn opportunity for business professionals\, parents of BizKids\, or any adult that is interested in learning more about BizTank\, by getting a sample of what the kids experience\, including the podcast! Learn how you\, your business and BizTank can work together through this unique Xperience!\n\n\n\nRSVP not required\, but is appreciated. Thanks!\n\nRSVP to BizTank@genevasupply.com
X-ALT-DESC;FMTTYPE=text/html:Geneva Supply BizTank Xperience<br />\nAn opportunity for business professionals\, parents of BizKids\, or any adult that is interested in learning more about BizTank\, by getting a sample of what the kids experience\, including the podcast! Learn how you\, your business and BizTank can work together through this unique Xperience!<br />\n<br />\nRSVP not required\, but is appreciated. Thanks!<br />\nRSVP to BizTank@genevasupply.com
LOCATION:Geneva Supply 1501 E Wisconsin St\, Delavan\, WI 53115
UID:e.2059.7610
SEQUENCE:3
DTSTAMP:20260422T130141Z
URL:https://business.elkhornchamber.com/events/details/genva-supply-biztank-xperience-7610
END:VEVENT

END:VCALENDAR
