BEGIN:VCALENDAR
VERSION:2.0
PRODID:-//ChamberMaster//Event Calendar 2.0//EN
METHOD:PUBLISH
X-PUBLISHED-TTL:P3D
REFRESH-INTERVAL:P3D
CALSCALE:GREGORIAN
BEGIN:VEVENT
DTSTART:20190909T223000Z
DTEND:20190910T013000Z
X-MICROSOFT-CDO-ALLDAYEVENT:FALSE
SUMMARY:Geneva Lake Women's Association Monthly Meeting
DESCRIPTION:Join Geneva Lake Women's Association for their monthly meeting. We are a group of fun and energetic women who devote our time and talents to the community through direct service projects. (We run events such as Ladies Day Luncheon\, Safety Town\, and coming soon... Women's Weekend!) Come check us out and see what we're all about! Social hour starts at 5:30pm\, meeting starts at 6:30pm
X-ALT-DESC;FMTTYPE=text/html:Join Geneva Lake Women&#39\;s Association for their monthly meeting. We are a group of fun and energetic women who devote our time and talents to the community through direct service projects. (We run events such as Ladies Day Luncheon\, Safety Town\, and coming soon... Women&#39\;s Weekend!) Come check us out and see what we&#39\;re all about! Social hour starts at 5:30pm\, meeting starts at 6:30pm
LOCATION:Geneva Theater 244 Broad St Lake Geneva\, WI
UID:e.2059.11110
SEQUENCE:3
DTSTAMP:20260421T055825Z
URL:https://business.elkhornchamber.com/events/details/geneva-lake-women-s-association-monthly-meeting-11110
END:VEVENT

END:VCALENDAR
