BEGIN:VCALENDAR
VERSION:2.0
PRODID:-//ChamberMaster//Event Calendar 2.0//EN
METHOD:PUBLISH
X-PUBLISHED-TTL:P3D
REFRESH-INTERVAL:P3D
CALSCALE:GREGORIAN
BEGIN:VEVENT
DTSTART:20181106T130000Z
DTEND:20181107T020000Z
X-MICROSOFT-CDO-ALLDAYEVENT:FALSE
SUMMARY:General Election
DESCRIPTION:
X-ALT-DESC;FMTTYPE=text/html:
LOCATION:National Guard Armory\, 401 Fair Ave.
UID:e.2059.9135
SEQUENCE:3
DTSTAMP:20260421T222121Z
URL:https://business.elkhornchamber.com/events/details/general-election-9135
END:VEVENT

END:VCALENDAR
