BEGIN:VCALENDAR
VERSION:2.0
PRODID:-//ChamberMaster//Event Calendar 2.0//EN
METHOD:PUBLISH
X-PUBLISHED-TTL:P3D
REFRESH-INTERVAL:P3D
CALSCALE:GREGORIAN
BEGIN:VEVENT
DTSTART:20170424T233000Z
DTEND:20170425T003000Z
X-MICROSOFT-CDO-ALLDAYEVENT:FALSE
SUMMARY:Gateway to the Great Books
DESCRIPTION:Gateway tot the Great Books is a new book discussion group that helps you enjoy the great works of literature in a way that won't put you to sleep! Every fourth Monday of the month at 6:30pm\, library volunteer Ellen Garb will facilitate a discussion on a short essay or portion of a great book in a way that makes the classics come alive. This is a great way to experience the great works of philosophy and literature in an open and welcoming environment. The selected reading can be picked up each month at the library information desk. The first work discuess will be The Man that Corrupted Hadleyburg by Mark Twain.
X-ALT-DESC;FMTTYPE=text/html:<em><strong>Gateway tot the Great Books&nbsp\;</strong></em>is a new book discussion group that helps you enjoy the great works of literature in a way that won&#39\;t put you to sleep! Every fourth Monday of the month at 6:30pm\, library volunteer Ellen Garb will facilitate a discussion on a short essay or portion of a great book in a way that makes the classics come alive. This is a great way to experience the great works of philosophy and literature in an open and welcoming environment. The selected reading can be picked up each month at the library information desk. The first work discuess will be&nbsp\;<em>The Man that Corrupted Hadleyburg&nbsp\;</em>by Mark Twain.
LOCATION:Matheson Memorial Library
UID:e.2059.4706
SEQUENCE:3
DTSTAMP:20260423T074519Z
URL:https://business.elkhornchamber.com/events/details/gateway-to-the-great-books-4706
END:VEVENT

END:VCALENDAR
