BEGIN:VCALENDAR
VERSION:2.0
PRODID:-//ChamberMaster//Event Calendar 2.0//EN
METHOD:PUBLISH
X-PUBLISHED-TTL:P3D
REFRESH-INTERVAL:P3D
CALSCALE:GREGORIAN
BEGIN:VEVENT
DTSTART:20161203T160000Z
DTEND:20161203T210000Z
X-MICROSOFT-CDO-ALLDAYEVENT:FALSE
SUMMARY:Gateway Classic Cars Christmas Party
DESCRIPTION:Come Celebrate Christmas Holiday with Gateway Classic Cars! Celebration is benefiting Toys for Tots. December 3rd\, 2016 at 10 am - 3 pm with lunch is being served 11 am - 2 pm. This event is FREE as we hope you find it in your heart to bring an unwrapped toy to make a child's dream come true. This is an event you don't want to miss\, with over 100+ classic cars to enjoy and snacks.
X-ALT-DESC;FMTTYPE=text/html:Come Celebrate Christmas Holiday with Gateway Classic Cars! Celebration is benefiting Toys for Tots. December 3rd\, 2016 at 10 am - 3 pm with lunch is being served 11 am - 2 pm. This event is FREE as we hope you find it in your heart to bring an unwrapped toy to make a child&#39\;s dream come true. This is an event you don&#39\;t want to miss\, with over 100+ classic cars to enjoy and snacks.
LOCATION:Gateway Classic Cars 9949 58th Place Suite 400 Kenosha\, WI 53144
UID:e.2059.4614
SEQUENCE:3
DTSTAMP:20260423T135801Z
URL:https://business.elkhornchamber.com/events/details/gateway-classic-cars-christmas-party-4614
END:VEVENT

END:VCALENDAR
