BEGIN:VCALENDAR
VERSION:2.0
PRODID:-//ChamberMaster//Event Calendar 2.0//EN
METHOD:PUBLISH
X-PUBLISHED-TTL:P3D
REFRESH-INTERVAL:P3D
CALSCALE:GREGORIAN
BEGIN:VEVENT
DTSTART:20170427T233000Z
DTEND:20170428T010000Z
X-MICROSOFT-CDO-ALLDAYEVENT:FALSE
SUMMARY:Gardening 101: Attracting Butterflies\, Bees\, and Birds to Your Landscape
DESCRIPTION:As the days get longer and the temperature rises\, it's the  perfect time to think about gardening! Please join us on Thursday\, April 27th at 6:30pm  for a special program to help you get started\, and to attract some beneficial   animals to your yard.\n\nLibrary staff and Master Gardeners\, Lisa Selje and Lisa Lynn\, will give a presentation on attracting birds\, bees and beautiful butterflies to your landscape. They will discuss creating the right habitat\, providing shelter and choosing plants that will  attract birds and pollinators to your yard. No matter if you are in a rural\, suburban or urban setting anyone can create an environment that will attract and sustain these pollinators that add beauty and enjoyment to your landscape as well as benefiting the food supply chain we all need.
X-ALT-DESC;FMTTYPE=text/html:<span style="font-family:georgia"><span style="font-size:10.0pt">As the days get longer and the temperature rises\, it&rsquo\;s the&nbsp\; perfect time to think about gardening! Please join us on </span></span><strong><span style="font-family:georgia"><span style="font-size:10.0pt">Thursday\, April 27th at 6:30pm </span></span></strong><span style="font-family:georgia"><span style="font-size:10.0pt">&nbsp\;for a special program to help you get started\, and to attract some beneficial &nbsp\; animals to your yard.</span></span><br />\n<span style="font-family:georgia"><span style="font-size:10.0pt">Library staff and Master Gardeners\, Lisa Selje and Lisa Lynn\, will give a presentation on attracting birds\, bees and beautiful butterflies to your landscape. They will discuss creating the right habitat\, providing shelter and choosing plants that will&nbsp\; attract birds and pollinators to your yard. No matter if you are in a rural\, suburban or urban setting anyone can create an environment that will attract and sustain these pollinators that add beauty and enjoyment to your landscape as well as benefiting the food supply chain we all need. </span></span><br />\n&nbsp\;
LOCATION:Matheson Memorial Library
UID:e.2059.4708
SEQUENCE:3
DTSTAMP:20260423T075138Z
URL:https://business.elkhornchamber.com/events/details/gardening-101-attracting-butterflies-bees-and-birds-to-your-landscape-4708
END:VEVENT

END:VCALENDAR
