BEGIN:VCALENDAR
VERSION:2.0
PRODID:-//ChamberMaster//Event Calendar 2.0//EN
METHOD:PUBLISH
X-PUBLISHED-TTL:P3D
REFRESH-INTERVAL:P3D
CALSCALE:GREGORIAN
BEGIN:VEVENT
DTSTART:20170920T150000Z
DTEND:20170920T160000Z
X-MICROSOFT-CDO-ALLDAYEVENT:FALSE
SUMMARY:Garden to Kitchen for Kids
DESCRIPTION:Preschoolers are invited to join Ms. Pattie to be introduced to healthy food\, science\, and gardening through our outdoor gardening space and in the Storyroom. Edible activities included!
X-ALT-DESC;FMTTYPE=text/html:<span style="color: rgb(0\, 0\, 0)\; font-family: arial\; font-size: 14.66px\;">Preschoolers are invited to join Ms. Pattie to be introduced to healthy food\, science\, and gardening through our outdoor gardening space and in the Storyroom. Edible activities included!</span>
LOCATION:Matheson Memorial Library
UID:e.2059.6544
SEQUENCE:3
DTSTAMP:20260422T214442Z
URL:https://business.elkhornchamber.com/events/details/garden-to-kitchen-for-kids-6544
END:VEVENT

END:VCALENDAR
