BEGIN:VCALENDAR
VERSION:2.0
PRODID:-//ChamberMaster//Event Calendar 2.0//EN
METHOD:PUBLISH
X-PUBLISHED-TTL:P3D
REFRESH-INTERVAL:P3D
CALSCALE:GREGORIAN
BEGIN:VEVENT
DTSTART:20171004T150000Z
DTEND:20171004T160000Z
X-MICROSOFT-CDO-ALLDAYEVENT:FALSE
SUMMARY:Garden to Kitchen for Kids
DESCRIPTION:Come and join Ms. Pattie for a fun garden themed playgroup! Children and caregivers will get to explore topics like plants\, bugs\, worms\, and birds through hands-on activities and outside investigations.
X-ALT-DESC;FMTTYPE=text/html:<span style="color:rgb(0\, 0\, 0)\; font-family:arial\; font-size:13.3333px">Come and join Ms. Pattie for a fun garden themed playgroup! Children and caregivers will get to explore topics like plants\, bugs\, worms\, and birds through hands-on activities and outside investigations.</span>
LOCATION:Matheson Memorial Library
UID:e.2059.6956
SEQUENCE:3
DTSTAMP:20260422T214835Z
URL:https://business.elkhornchamber.com/events/details/garden-to-kitchen-for-kids-10-04-2017-6956
END:VEVENT

END:VCALENDAR
