BEGIN:VCALENDAR
VERSION:2.0
PRODID:-//ChamberMaster//Event Calendar 2.0//EN
METHOD:PUBLISH
X-PUBLISHED-TTL:P3D
REFRESH-INTERVAL:P3D
CALSCALE:GREGORIAN
BEGIN:VEVENT
DTSTART:20151206T000000Z
DTEND:20151206T000000Z
X-MICROSOFT-CDO-ALLDAYEVENT:FALSE
SUMMARY:Gala Holiday Concert
DESCRIPTION:The Music Department pulls out all the stops for this annual Gala Holiday Concert! The concert features nearly every instrumental ensemble and vocal ensemble delighting audiences before the performance and during intermission in various spaces throughout the Young Auditorium\, with smaller groupings of student musicians. The Gala Holiday Concert has become a joyous tradition to start the holiday season. From Baroque to Jazz\, to Gospel and carols - the festive music sets the tone for the season.\n\nGala Dinner Buffet - $24.00 (Dinner is at 6:00 p.m. in our Kachel Center) - BUY TICKETS\n\nThis year's menu features:\n\n     - Penne Pasta with Grilled Vegetables and Pesto\n\n     - Chicken Alfredo with Spinach and Sun-Dried Tomatoes\n\n     - Mixed Field Greens (Ranch or French dressing)\n\n     - Creamy Cucumber Salad\n\n     - Fresh Green Beans\n\n     - Honey Basil Carrots\n\n     - Roasted Garlic Mashed Potatoes\n\n     - Double Chocolate Cake\n\n     - Coffee\, Hot Tea\, Rolls and Butter
X-ALT-DESC;FMTTYPE=text/html:<p style="margin: 0px 0px 15px\; padding: 0px\; border: 0px\; outline: 0px\; font-size: 12px\; vertical-align: baseline\; line-height: 22.3999996185303px\; font-family: Arial\; color: #666666\; background-image: initial\; background-attachment: initial\; background-size: initial\; background-origin: initial\; background-clip: initial\; background-position: initial\; background-repeat: initial\;">The Music Department pulls out all the stops for this annual Gala Holiday Concert! The concert features nearly every instrumental ensemble and vocal ensemble delighting audiences before the performance and during intermission in various spaces throughout the Young Auditorium\, with smaller groupings of student musicians. The Gala Holiday Concert has become a joyous tradition to start the holiday season. From Baroque to Jazz\, to Gospel and carols - the festive music sets the tone for the season.</p>\n\n<p style="margin: 0px 0px 15px\; padding: 0px\; border: 0px\; outline: 0px\; font-size: 12px\; vertical-align: baseline\; line-height: 22.3999996185303px\; font-family: Arial\; color: #666666\; background-image: initial\; background-attachment: initial\; background-size: initial\; background-origin: initial\; background-clip: initial\; background-position: initial\; background-repeat: initial\;"><strong style="margin: 0px\; padding: 0px\; border: 0px\; outline: 0px\; vertical-align: baseline\; background: transparent\;">Gala Dinner Buffet - $24.00 (Dinner is at 6:00 p.m. in our Kachel Center) -<a class="extLink" href="http://purchase.tickets.com/buy/TicketPurchase?organ_val=21410&amp\;pid=8096625" target="_blank" title="Gala 2015 Dinner Tickets">&nbsp\;<span style="color: #d4cddc\;">BUY TICKETS</span></a></strong></p>\n\n<p style="margin: 0px 0px 15px\; padding: 0px\; border: 0px\; outline: 0px\; font-size: 12px\; vertical-align: baseline\; line-height: 22.3999996185303px\; font-family: Arial\; color: #666666\; background-image: initial\; background-attachment: initial\; background-size: initial\; background-origin: initial\; background-clip: initial\; background-position: initial\; background-repeat: initial\;">This year's menu features:<br>\n&nbsp\; &nbsp\; &nbsp\;- Penne Pasta with Grilled Vegetables and Pesto<br>\n&nbsp\; &nbsp\; &nbsp\;- Chicken Alfredo with Spinach and Sun-Dried Tomatoes<br>\n&nbsp\; &nbsp\; &nbsp\;- Mixed Field Greens (Ranch or French dressing)<br>\n&nbsp\; &nbsp\; &nbsp\;- Creamy Cucumber Salad<br>\n&nbsp\; &nbsp\; &nbsp\;- Fresh Green Beans<br>\n&nbsp\; &nbsp\; &nbsp\;- Honey Basil Carrots<br>\n&nbsp\; &nbsp\; &nbsp\;- Roasted Garlic Mashed Potatoes<br>\n&nbsp\; &nbsp\; &nbsp\;- Double Chocolate Cake<br>\n<span style="line-height: 22.3999996185303px\;">&nbsp\; &nbsp\; &nbsp\;- Coffee\, Hot Tea\, Rolls and Butter</span></p>\n
LOCATION:Young Auditorium 930 W. Main Street Whitewater\, WI 53190
UID:e.2059.1840
SEQUENCE:3
DTSTAMP:20260424T112451Z
URL:https://business.elkhornchamber.com/events/details/gala-holiday-concert-12-05-2015-1840
END:VEVENT

END:VCALENDAR
