BEGIN:VCALENDAR
VERSION:2.0
PRODID:-//ChamberMaster//Event Calendar 2.0//EN
METHOD:PUBLISH
X-PUBLISHED-TTL:P3D
REFRESH-INTERVAL:P3D
CALSCALE:GREGORIAN
BEGIN:VEVENT
DTSTART:20190420T120000Z
DTEND:20190420T150000Z
X-MICROSOFT-CDO-ALLDAYEVENT:FALSE
SUMMARY:Fur & Feather Swap Meet
DESCRIPTION:The Swap is held as a fund raiser for the Fur and Feather Auction held Labor Day at the Fair. The Auction allows youth in the Rabbit\, Goat & Poultry projects to sell their blue ribbon winners. The Auction offers four $1\,000 scholarships (the last two years we have given six) to worthy youth in the projects. The youth receive 100% of the Auction proceeds either directly or from scholarships.
X-ALT-DESC;FMTTYPE=text/html:The Swap is held as a fund raiser for the Fur and Feather Auction held Labor Day at the Fair. The Auction allows youth in the Rabbit\, Goat &amp\; Poultry projects to sell their blue ribbon winners. The Auction offers four $1\,000 scholarships (the last two years we have given six) to worthy youth in the projects. The youth receive 100% of the Auction proceeds either directly or from scholarships.
LOCATION:Walworth County Fairgrounds Activity Center 411 East Court Street Elkhorn\, WI 53121
UID:e.2059.10597
SEQUENCE:3
DTSTAMP:20260421T134742Z
URL:https://business.elkhornchamber.com/events/details/fur-feather-swap-meet-10597
END:VEVENT

END:VCALENDAR
