BEGIN:VCALENDAR
VERSION:2.0
PRODID:-//ChamberMaster//Event Calendar 2.0//EN
METHOD:PUBLISH
X-PUBLISHED-TTL:P3D
REFRESH-INTERVAL:P3D
CALSCALE:GREGORIAN
BEGIN:VEVENT
DTSTART:20170513T160000Z
DTEND:20170513T200000Z
X-MICROSOFT-CDO-ALLDAYEVENT:FALSE
SUMMARY:Fundraising Car Wash
DESCRIPTION:The Elkhorn Area High School Community Impact Club is hosting a Fundraising Car Wash on Saturday the 13th of May from 11-3.\n\nAll proceeds raised will be donated to Agape House
X-ALT-DESC;FMTTYPE=text/html:The Elkhorn Area High School Community Impact Club is hosting a Fundraising Car Wash on Saturday the 13th of May from 11-3.<br />\nAll proceeds raised will be donated to Agape House
LOCATION:Elkhorn Area High School Main Entrance Circle Elkhorn
UID:e.2059.5082
SEQUENCE:3
DTSTAMP:20260423T074539Z
URL:https://business.elkhornchamber.com/events/details/fundraising-car-wash-5082
END:VEVENT

END:VCALENDAR
