BEGIN:VCALENDAR
VERSION:2.0
PRODID:-//ChamberMaster//Event Calendar 2.0//EN
METHOD:PUBLISH
X-PUBLISHED-TTL:P3D
REFRESH-INTERVAL:P3D
CALSCALE:GREGORIAN
BEGIN:VEVENT
DTSTART:20161115T230000Z
DTEND:20161116T010000Z
X-MICROSOFT-CDO-ALLDAYEVENT:FALSE
SUMMARY:Fundraiser Dinner Association for Prevention of Family Violence
DESCRIPTION:Fundraiser Dinner to Support~\n\nAssociation for Prevention of Family Violence\n\nTuesday\, November 15th\n\nHosted by Simple Cafe\n\nDinner Tickets Only $10 per Person\n\nChoose from 3 fabulous entrees\n\nTo Reserve your seat\, call APFV at 262-248-3556\n\nCARRY-OUTS AVAILABLE
X-ALT-DESC;FMTTYPE=text/html:Fundraiser Dinner to Support~<br />\nAssociation for Prevention of Family Violence<br />\nTuesday\, November 15th<br />\nHosted by Simple Cafe<br />\nDinner Tickets Only $10 per Person<br />\nChoose from 3 fabulous entrees<br />\nTo Reserve your seat\, call APFV at 262-248-3556<br />\nCARRY-OUTS AVAILABLE
LOCATION:Simple Cafe 525 Broad Street Lake Geneva\, Wi 53147
UID:e.2059.4553
SEQUENCE:3
DTSTAMP:20260423T154131Z
URL:https://business.elkhornchamber.com/events/details/fundraiser-dinner-association-for-prevention-of-family-violence-4553
END:VEVENT

END:VCALENDAR
