BEGIN:VCALENDAR
VERSION:2.0
PRODID:-//ChamberMaster//Event Calendar 2.0//EN
METHOD:PUBLISH
X-PUBLISHED-TTL:P3D
REFRESH-INTERVAL:P3D
CALSCALE:GREGORIAN
BEGIN:VEVENT
DTSTART:20160621T163000Z
DTEND:20160621T190000Z
X-MICROSOFT-CDO-ALLDAYEVENT:FALSE
SUMMARY:Fun\, and Fashion Cruise~
DESCRIPTION:Our special guest\, First Lady Tonette Walker\, has been instrumental in raising funds to develop the first Boys & Girls Club of Walworth County. She continues to assist in raising funds to expand our clubs to more communities! We ask you to be part of history in raising funds to open more Boys & Girls Club in Walworth County. The club programming continues to be successful for over 150 years with its progressive\, yet "old school" values that our youth desperately need today. Proceeds will to to the Boys & Girls Club of Wal. Co.\n\nJoin us for this amazing event with Fun\, Fashion and a Cruise. We will depart from Pier 290\, cruise Lake Geneva with honored guest Wisconsin's First Lady Tonette Walker\, lunch at Pier 290\, a Gage Marine Fashion Show\, card raffles will bring this day all together.\n\nMaximum capacity of 75 people\, first come first serve so reserve your seat today!
X-ALT-DESC;FMTTYPE=text/html:Our special guest\, First Lady Tonette Walker\, has been instrumental in raising funds to develop the first Boys &amp\; Girls Club of Walworth County. She continues to assist in raising funds to expand our clubs to more communities! We ask you to be part of history in raising funds to open more Boys &amp\; Girls Club in Walworth County. The club programming continues to be successful for over 150 years with its progressive\, yet &quot\;old school&quot\; values that our youth desperately need today. Proceeds will to to the Boys &amp\; Girls Club of Wal. Co.<br />\nJoin us for this amazing event with Fun\, Fashion and a Cruise. We will depart from Pier 290\, cruise Lake Geneva with honored guest Wisconsin&#39\;s First Lady Tonette Walker\, lunch at Pier 290\, a Gage Marine Fashion Show\, card raffles will bring this day all together.<br />\nMaximum capacity of 75 people\, first come first serve so reserve your seat today!<br />\n&nbsp\;
LOCATION:Departure from Pier 290\, Fontana\, WI
UID:e.2059.3471
SEQUENCE:3
DTSTAMP:20260423T235211Z
URL:https://business.elkhornchamber.com/events/details/fun-and-fashion-cruise-06-21-2016-3471
END:VEVENT

END:VCALENDAR
