BEGIN:VCALENDAR
VERSION:2.0
PRODID:-//ChamberMaster//Event Calendar 2.0//EN
METHOD:PUBLISH
X-PUBLISHED-TTL:P3D
REFRESH-INTERVAL:P3D
CALSCALE:GREGORIAN
BEGIN:VEVENT
DTSTART:20190228T000000Z
DTEND:20190228T020000Z
X-MICROSOFT-CDO-ALLDAYEVENT:FALSE
SUMMARY:Friends of the Library General Meeting
DESCRIPTION:Join the Friends of the Library at their bimonthly general meeting and learn how you can help support our library!
X-ALT-DESC;FMTTYPE=text/html:<p style="text-align:center">Join the Friends of the Library at their bimonthly general meeting and learn how you can help support our library!</p>\n
LOCATION:Matheson Memorial Library
UID:e.2059.10246
SEQUENCE:3
DTSTAMP:20260421T173621Z
URL:https://business.elkhornchamber.com/events/details/friends-of-the-library-general-meeting-02-27-2019-10246
END:VEVENT

END:VCALENDAR
