BEGIN:VCALENDAR
VERSION:2.0
PRODID:-//ChamberMaster//Event Calendar 2.0//EN
METHOD:PUBLISH
X-PUBLISHED-TTL:P3D
REFRESH-INTERVAL:P3D
CALSCALE:GREGORIAN
BEGIN:VEVENT
DTSTART:20180120T160000Z
DTEND:20180120T190000Z
X-MICROSOFT-CDO-ALLDAYEVENT:FALSE
SUMMARY:Friends of the Library Book and Bake Sale
DESCRIPTION:All the books you can fit in the bag for only $5.00\, and enjoy some fresh baked goods as well!
X-ALT-DESC;FMTTYPE=text/html:<span style="color:rgb(102\, 102\, 102)\; font-family:arial\,sans-serif\; font-size:12px">All the books you can fit in the bag for only $5.00\, and enjoy some fresh baked goods as well!</span>
LOCATION:Matheson Memorial Library
UID:e.2059.7504
SEQUENCE:3
DTSTAMP:20260422T151310Z
URL:https://business.elkhornchamber.com/events/details/friends-of-the-library-book-and-bake-sale-01-20-2018-7504
END:VEVENT

END:VCALENDAR
