BEGIN:VCALENDAR
VERSION:2.0
PRODID:-//ChamberMaster//Event Calendar 2.0//EN
METHOD:PUBLISH
X-PUBLISHED-TTL:P3D
REFRESH-INTERVAL:P3D
CALSCALE:GREGORIAN
BEGIN:VEVENT
DTSTART:20180119T150000Z
DTEND:20180120T000000Z
X-MICROSOFT-CDO-ALLDAYEVENT:FALSE
SUMMARY:Friends of the Library Book and Bake Sale
DESCRIPTION:All the books you can fit in the bag for only $5.00\, and enjoy some fresh baked goods as well!
X-ALT-DESC;FMTTYPE=text/html:All the books you can fit in the bag for only $5.00\, and enjoy some fresh baked goods as well!
LOCATION:Matheson Memorial Library
UID:e.2059.7503
SEQUENCE:3
DTSTAMP:20260422T151310Z
URL:https://business.elkhornchamber.com/events/details/friends-of-the-library-book-and-bake-sale-01-19-2018-7503
END:VEVENT

END:VCALENDAR
