BEGIN:VCALENDAR
VERSION:2.0
PRODID:-//ChamberMaster//Event Calendar 2.0//EN
METHOD:PUBLISH
X-PUBLISHED-TTL:P3D
REFRESH-INTERVAL:P3D
CALSCALE:GREGORIAN
BEGIN:VEVENT
DTSTART:20170805T140000Z
DTEND:20170805T230000Z
X-MICROSOFT-CDO-ALLDAYEVENT:FALSE
SUMMARY:Friends Big Book & Bake Sale
DESCRIPTION:It's time for the Friends of the Matheson Memorial Library's annual Big Book & Bake Sale! It's all the books\, movies\, and music you can stuff in a bag for only $5\, plus a wide assortment of homemade\, delicious baked treats for you to take home and enjoy!
X-ALT-DESC;FMTTYPE=text/html:<span style="font-family:arial\,helvetica\,sans-serif"><span style="color:rgb(0\, 0\, 0)\; font-size:12px">It&#39\;s time for the Friends of the Matheson Memorial Library&#39\;s annual Big Book &amp\; Bake Sale! It&#39\;s all the books\, movies\, and music you can stuff in a bag for only $5\, plus a wide assortment of homemade\, delicious baked treats for you to take home and enjoy!</span></span>
LOCATION:Matheson Memorial Library
UID:e.2059.5482
SEQUENCE:3
DTSTAMP:20260422T234906Z
URL:https://business.elkhornchamber.com/events/details/friends-big-book-bake-sale-5482
END:VEVENT

END:VCALENDAR
