BEGIN:VCALENDAR
VERSION:2.0
PRODID:-//ChamberMaster//Event Calendar 2.0//EN
METHOD:PUBLISH
X-PUBLISHED-TTL:P3D
REFRESH-INTERVAL:P3D
CALSCALE:GREGORIAN
BEGIN:VEVENT
DTSTART:20170804T210000Z
DTEND:20170804T230000Z
X-MICROSOFT-CDO-ALLDAYEVENT:FALSE
SUMMARY:Friends Big Book & Bake Sale
DESCRIPTION:It's time for the Friends of the Matheson Memorial Library's annual Big Book & Bake Sale! It's all the books\, movies\, and music you can stuff in a bag for only $5\, plus a wide assortment of homemade\, delicious baked treats for you to take home and enjoy!\n\nThe August 4th sale is a special preview sale open only to Friends members. However\, if you'd like to join the friends for a $10 annual membership\, you can do so at the door. There are many benefits to joining the Friends-check out our brochure at the library checkout desk!
X-ALT-DESC;FMTTYPE=text/html:<p style="text-align:center">It&#39\;s time for the Friends of the Matheson Memorial Library&#39\;s annual Big Book &amp\; Bake Sale! It&#39\;s all the books\, movies\, and music you can stuff in a bag for only $5\, plus a wide assortment of homemade\, delicious baked treats for you to take home and enjoy!</p>\n\n<p style="text-align:center"><strong>The August 4th sale is a special preview sale open only to Friends members. However\, if you&#39\;d like to join the friends for a $10 annual membership\, you can do so at the door. There are many benefits to joining the Friends-check out our brochure at the library checkout desk!</strong></p>\n
LOCATION:Matheson Memorial Library
UID:e.2059.5483
SEQUENCE:3
DTSTAMP:20260423T011814Z
URL:https://business.elkhornchamber.com/events/details/friends-big-book-bake-sale-08-04-2017-5483
END:VEVENT

END:VCALENDAR
