BEGIN:VCALENDAR
VERSION:2.0
PRODID:-//ChamberMaster//Event Calendar 2.0//EN
METHOD:PUBLISH
X-PUBLISHED-TTL:P3D
REFRESH-INTERVAL:P3D
CALSCALE:GREGORIAN
BEGIN:VEVENT
DTSTART:20200201T003000Z
DTEND:20200201T033000Z
X-MICROSOFT-CDO-ALLDAYEVENT:FALSE
SUMMARY:Fridays with Oscar: Judy
DESCRIPTION:It's time to watch 2020 Academy Award-nominated films with free admission\, popcorn and soda! Enjoy these films and share Oscar knowledge\, hidden film insights\, and fun trivia! Watch the blockbuster films and predict this year's winners.\n\n\n\n*** Note: This year's films limited to patrons age 18 and up.***\n\nTonight: Judy
X-ALT-DESC;FMTTYPE=text/html:<div style="text-align:center"><span style="color:rgb(29\, 33\, 41)\; font-family:helvetica\,arial\,sans-serif\; font-size:14px">It&#39\;s time to watch 2020 Academy Award-nominated films with free admission\, popcorn and soda! Enjoy these films and share Oscar knowledge\, hidden film insights\, and fun trivia! Watch the blockbuster films and predict this year&#39\;s winners.<br />\n<br />\n<strong>*** Note: This year&#39\;s films limited to patrons age 18 and up.***</strong></span></div>\n\n<div style="text-align:center"><span style="color:rgb(29\, 33\, 41)\; font-family:helvetica\,arial\,sans-serif\; font-size:14px"><strong>Tonight: Judy</strong></span><br />\n&nbsp\;</div>\n
LOCATION:Matheson Memorial Library
UID:e.2059.11352
SEQUENCE:3
DTSTAMP:20260419T181421Z
URL:https://business.elkhornchamber.com/events/details/fridays-with-oscar-judy-11352
END:VEVENT

END:VCALENDAR
