BEGIN:VCALENDAR
VERSION:2.0
PRODID:-//ChamberMaster//Event Calendar 2.0//EN
METHOD:PUBLISH
X-PUBLISHED-TTL:P3D
REFRESH-INTERVAL:P3D
CALSCALE:GREGORIAN
BEGIN:VEVENT
DTSTART:20180302T003000Z
DTEND:20180303T023000Z
X-MICROSOFT-CDO-ALLDAYEVENT:FALSE
SUMMARY:Fridays with Oscar
DESCRIPTION:The Friends of Matheson Memorial Library is sponsoring their 6th Annual "Fridays With Oscar" film festival to showcase 2018 Academy Award-nominated films. \n\nFree admission\, popcorn and soda are all provided by the Friends\, along with trivia\, fun facts\, and more!
X-ALT-DESC;FMTTYPE=text/html:<p style="text-align:center">The Friends of Matheson Memorial Library is sponsoring their 6th Annual &ldquo\;Fridays With Oscar&rdquo\; film festival to showcase 2018 Academy Award-nominated films.&nbsp\;</p>\n\n<p style="text-align:center">Free admission\, popcorn and soda are all provided by the Friends\, along with&nbsp\;trivia\, fun facts\, and more!</p>\n
LOCATION:Matheson Memorial Library
UID:e.2059.7531
SEQUENCE:3
DTSTAMP:20260422T121409Z
URL:https://business.elkhornchamber.com/events/details/fridays-with-oscar-03-01-2018-7531
END:VEVENT

END:VCALENDAR
