BEGIN:VCALENDAR
VERSION:2.0
PRODID:-//ChamberMaster//Event Calendar 2.0//EN
METHOD:PUBLISH
X-PUBLISHED-TTL:P3D
REFRESH-INTERVAL:P3D
CALSCALE:GREGORIAN
BEGIN:VEVENT
DTSTART:20180124T190000Z
DTEND:20180207T210000Z
X-MICROSOFT-CDO-ALLDAYEVENT:FALSE
SUMMARY:Free Specialized Training in Hospitality Essentials
DESCRIPTION:Free Specialized Training in Hospitality Essentials. The area's Tourism and Hospitality industry is booming.\n\nThe field is an exciting\, ever evolving industry that welcomes managers and employers of all types. Kenosha\, Racine and Walworth Counties rank in the Top 10 in private (not government) tourism in the state of Wisconsin.\n\nYou will learn about the management and operation of hotels\, motels\, and resorts as well as the service and technical skills needed to be successful in this industry.\n\nBy successfully completing this training you will earn 9 college credits and the Gateway Technical College Hospitality Essentials Certificate.
X-ALT-DESC;FMTTYPE=text/html:Free Specialized Training in Hospitality Essentials. The area&#39\;s Tourism and Hospitality industry is booming.<br />\nThe field is an exciting\, ever evolving industry that welcomes managers and employers of all types. Kenosha\, Racine and Walworth Counties rank in the Top 10 in private (not government) tourism in the state of Wisconsin.<br />\nYou will learn about the management and operation of hotels\, motels\, and resorts as well as the service and technical skills needed to be successful in this industry.<br />\nBy successfully completing this training you will earn 9 college credits and the Gateway Technical College Hospitality Essentials Certificate.
LOCATION:Gateway Technical College Elkhorn Campus 400 Country Road H\, Elkhorn\, WI South Building Room 112
UID:e.2059.7517
SEQUENCE:3
DTSTAMP:20260422T132937Z
URL:https://business.elkhornchamber.com/events/details/free-specialized-training-in-hospitality-essentials-7517
END:VEVENT

END:VCALENDAR
