BEGIN:VCALENDAR
VERSION:2.0
PRODID:-//ChamberMaster//Event Calendar 2.0//EN
METHOD:PUBLISH
X-PUBLISHED-TTL:P3D
REFRESH-INTERVAL:P3D
CALSCALE:GREGORIAN
BEGIN:VEVENT
DTSTART:20160715T000000Z
DTEND:20160715T000000Z
X-MICROSOFT-CDO-ALLDAYEVENT:FALSE
SUMMARY:Free Seminar by Walter Seward
DESCRIPTION:Learn from this Free Seminar presented by Walter Seward.\n\nHow you may enable your clients:\n\nMaximize their money in real time\n\nKnow Exactly: What money to money to move\n\nResult is the quickest most efficient method to managing money and paying off loans and debts in the shortest amount of time.
X-ALT-DESC;FMTTYPE=text/html:Learn from this Free Seminar presented by Walter Seward.<br />\nHow you may enable your clients:<br />\nMaximize their money in real time<br />\nKnow Exactly: What money to money to move<br />\nResult is the quickest most efficient method to managing money and paying off loans and debts in the shortest amount of time.
LOCATION:The Grist Mill 2645 Main St. East Troy\, Wi 53120
UID:e.2059.4495
SEQUENCE:3
DTSTAMP:20260423T220750Z
URL:https://business.elkhornchamber.com/events/details/free-seminar-by-walter-seward-07-14-2016-4495
END:VEVENT

END:VCALENDAR
