BEGIN:VCALENDAR
VERSION:2.0
PRODID:-//ChamberMaster//Event Calendar 2.0//EN
METHOD:PUBLISH
X-PUBLISHED-TTL:P3D
REFRESH-INTERVAL:P3D
CALSCALE:GREGORIAN
BEGIN:VEVENT
DTSTART:20180329T150000Z
DTEND:20180329T220000Z
X-MICROSOFT-CDO-ALLDAYEVENT:FALSE
SUMMARY:Free Lego Build
DESCRIPTION:Looking for something to do on a no-school day? Drop by the Storyroom for Free Lego Build! Legos will be available from 10am to 5pm. All ages and abilities are welcome to drop in and build something.
X-ALT-DESC;FMTTYPE=text/html:<span style="color:rgb(0\, 0\, 0)\; font-family:arial\; font-size:14.6667px">Looking for something to do on a no-school day? Drop by the Storyroom for Free Lego Build! Legos will be available from 10am to 5pm. All ages and abilities are welcome to drop in and build something.</span>
LOCATION:Matheson Memorial Library
UID:e.2059.7580
SEQUENCE:3
DTSTAMP:20260422T115003Z
URL:https://business.elkhornchamber.com/events/details/free-lego-build-03-29-2018-7580
END:VEVENT

END:VCALENDAR
