BEGIN:VCALENDAR
VERSION:2.0
PRODID:-//ChamberMaster//Event Calendar 2.0//EN
METHOD:PUBLISH
X-PUBLISHED-TTL:P3D
REFRESH-INTERVAL:P3D
CALSCALE:GREGORIAN
BEGIN:VEVENT
DTSTART:20170524T230000Z
DTEND:20170525T003000Z
X-MICROSOFT-CDO-ALLDAYEVENT:FALSE
SUMMARY:Free Lecture - Strategies for Parents with Picky Eaters
DESCRIPTION:Curative New Berlin Therapies is pleased to present: "Strategies for Parents with Picky Eaters\," presented by Mary Gutzke\, OTR. This session will help parents answer questions like: How can I stop meal times from becoming a battlefield? Why does my child struggle with different food textures? How should I introduce new foods to my child?
X-ALT-DESC;FMTTYPE=text/html:Curative New Berlin Therapies is pleased to present: &quot\;Strategies for Parents with Picky Eaters\,&quot\; presented by Mary Gutzke\, OTR. This session will help parents answer questions like: How can I stop meal times from becoming a battlefield? Why does my child struggle with different food textures? How should I introduce new foods to my child?
LOCATION:Matheson Memorial Library\, Community Room (101 N. Wisconsin Street\, Elkhorn)
UID:e.2059.5049
SEQUENCE:3
DTSTAMP:20260423T061420Z
URL:https://business.elkhornchamber.com/events/details/free-lecture-strategies-for-parents-with-picky-eaters-5049
END:VEVENT

END:VCALENDAR
