BEGIN:VCALENDAR
VERSION:2.0
PRODID:-//ChamberMaster//Event Calendar 2.0//EN
METHOD:PUBLISH
X-PUBLISHED-TTL:P3D
REFRESH-INTERVAL:P3D
CALSCALE:GREGORIAN
BEGIN:VEVENT
DTSTART;VALUE=DATE:20180602
DTEND;VALUE=DATE:20180604
TRANSP:TRANSPARENT
X-MICROSOFT-CDO-ALLDAYEVENT:TRUE
SUMMARY:Free Fishing Weekend
DESCRIPTION:Enjoy the State of Wisconsin's Free fishing weekend!
X-ALT-DESC;FMTTYPE=text/html:Enjoy the State of Wisconsin&#39\;s Free fishing weekend!
LOCATION:State of Wisconsin
UID:e.2059.8749
SEQUENCE:3
DTSTAMP:20260422T085307Z
URL:https://business.elkhornchamber.com/events/details/free-fishing-weekend-8749
END:VEVENT

END:VCALENDAR
