BEGIN:VCALENDAR
VERSION:2.0
PRODID:-//ChamberMaster//Event Calendar 2.0//EN
METHOD:PUBLISH
X-PUBLISHED-TTL:P3D
REFRESH-INTERVAL:P3D
CALSCALE:GREGORIAN
BEGIN:VEVENT
DTSTART:20151014T003000Z
DTEND:20151014T023000Z
X-MICROSOFT-CDO-ALLDAYEVENT:FALSE
SUMMARY:Free Event! The Missing Generation (Sean Dorsey Dance)
DESCRIPTION:Sean Dorsey is a San Francisco-based choreographer and dancer\, celebrated as the nation?s first transgender modern dance choreographer. His new show\, The Missing Generation\, explores the contemporary impact of the loss of part of an entire generation of gay and transgender people to AIDS in the 1980s and 1990s. Dorsey created the show during a two-year intensive process that brought him to five cities across the U.S. where he conducted community residencies\, research and oral history interviews with longtime survivors of the early epidemic. The voices and remarkable real-life stories recorded in these oral histories are featured in the show?s powerful multi-layered soundscore. (Ticket required)
X-ALT-DESC;FMTTYPE=text/html:Sean Dorsey is a San Francisco-based choreographer and dancer\, celebrated as the nation?s first transgender modern dance choreographer. His new show\, The Missing Generation\, explores the contemporary impact of the loss of part of an entire generation of gay and transgender people to AIDS in the 1980s and 1990s. Dorsey created the show during a two-year intensive process that brought him to five cities across the U.S. where he conducted community residencies\, research and oral history interviews with longtime survivors of the early epidemic. The voices and remarkable real-life stories recorded in these oral histories are featured in the show?s powerful multi-layered soundscore. (Ticket required)
LOCATION:Young Auditorium - 930 West Main Street\, Whitewater
UID:e.2059.1651
SEQUENCE:3
DTSTAMP:20260424T124207Z
URL:https://business.elkhornchamber.com/events/details/free-event-the-missing-generation-sean-dorsey-dance-10-13-2015-1651
END:VEVENT

END:VCALENDAR
