BEGIN:VCALENDAR
VERSION:2.0
PRODID:-//ChamberMaster//Event Calendar 2.0//EN
METHOD:PUBLISH
X-PUBLISHED-TTL:P3D
REFRESH-INTERVAL:P3D
CALSCALE:GREGORIAN
BEGIN:VEVENT
DTSTART:20160124T010000Z
DTEND:20160124T033000Z
X-MICROSOFT-CDO-ALLDAYEVENT:FALSE
SUMMARY:FREE Event! Sing-A-Long Hairspray
DESCRIPTION:"Sing-A-Long Hairspray" is an event that everyone will enjoy! Hairspray is Broadway?s musical comedy phenomenon about a 1962 Baltimore teen named Tracy whose dream comes true when she is transformed from social outcast to sudden TV dancing star. The 2007 film stars John Travolta\, Michelle Pfeiffer\, Christopher Walken and Queen Latifah. The movie will play on the big screen in the auditorium with on-screen lyrics so everyone can join in the fun! There will be several opportunities to interact with the show beyond just singing. This movie is rated PG.
X-ALT-DESC;FMTTYPE=text/html:&quot\;Sing-A-Long Hairspray&quot\; is an event that everyone will enjoy! Hairspray is Broadway?s musical comedy phenomenon about a 1962 Baltimore teen named Tracy whose dream comes true when she is transformed from social outcast to sudden TV dancing star. The 2007 film stars John Travolta\, Michelle Pfeiffer\, Christopher Walken and Queen Latifah. The movie will play on the big screen in the auditorium with on-screen lyrics so everyone can join in the fun! There will be several opportunities to interact with the show beyond just singing. This movie is rated PG.
LOCATION:Young Auditorium - 930 West Main Street\, Whitewater
UID:e.2059.1659
SEQUENCE:3
DTSTAMP:20260424T094643Z
URL:https://business.elkhornchamber.com/events/details/free-event-sing-a-long-hairspray-01-23-2016-1659
END:VEVENT

END:VCALENDAR
