BEGIN:VCALENDAR
VERSION:2.0
PRODID:-//ChamberMaster//Event Calendar 2.0//EN
METHOD:PUBLISH
X-PUBLISHED-TTL:P3D
REFRESH-INTERVAL:P3D
CALSCALE:GREGORIAN
BEGIN:VEVENT
DTSTART:20190126T210000Z
DTEND:20190126T230000Z
X-MICROSOFT-CDO-ALLDAYEVENT:FALSE
SUMMARY:Free Event! Sing-A-Long Film : Frozen
DESCRIPTION:Ticket Prices:  FREE Event (ticket required)\n\nPresented by Cultural Affairs - Young Auditorium is proud to bring back its annual sing-a-long movie tradition with Disney's most successful movie musical of all time\, Frozen! Join Anna as she sets off on an epic journey to find her sister Elsa\, whose icy powers have trapped the kingdom in eternal winter. Relive the magic and majesty of this sparkling masterpiece as you sing along to all your favorite Frozen songs. On-screen lyrics make it easy to participate\, and dressing up as your favorite character only adds to the enjoyment. It's pure enchantment ... and fun for the entire family!
X-ALT-DESC;FMTTYPE=text/html:<p style="box-sizing: border-box\; margin: 0px 0px 12.5px\; color: rgb(102\, 102\, 102)\; font-family: &quot\;PT Sans&quot\;\, sans-serif\; font-size: 16px\;"><span style="box-sizing: border-box\; font-weight: 700\;">Ticket Prices: &nbsp\;FREE Event (ticket required)</span></p>\n\n<p style="box-sizing: border-box\; margin: 0px 0px 12.5px\; color: rgb(102\, 102\, 102)\; font-family: &quot\;PT Sans&quot\;\, sans-serif\; font-size: 16px\;"><em style="box-sizing: border-box\;">Presented by Cultural Affairs</em>&nbsp\;- Young Auditorium is proud to bring back its annual sing-a-long movie tradition with Disney&#39\;s most successful movie musical of all time\, Frozen! Join Anna as she sets off on an epic journey to&nbsp\;find her sister Elsa\, whose icy powers have trapped the kingdom in eternal winter. Relive the magic and majesty of this sparkling masterpiece as you sing along to all your favorite Frozen songs. On-screen lyrics make it easy to participate\, and dressing up as your favorite character only adds to the enjoyment. It&#39\;s pure enchantment ... and fun for the entire family!</p>\n
LOCATION:Young Auditorium 930 W. Main Street Whitewater\, WI 53190
UID:e.2059.10189
SEQUENCE:3
DTSTAMP:20260421T190617Z
URL:https://business.elkhornchamber.com/events/details/free-event-sing-a-long-film-frozen-10189
END:VEVENT

END:VCALENDAR
