BEGIN:VCALENDAR
VERSION:2.0
PRODID:-//ChamberMaster//Event Calendar 2.0//EN
METHOD:PUBLISH
X-PUBLISHED-TTL:P3D
REFRESH-INTERVAL:P3D
CALSCALE:GREGORIAN
BEGIN:VEVENT
DTSTART:20191112T223000Z
DTEND:20191112T233000Z
X-MICROSOFT-CDO-ALLDAYEVENT:FALSE
SUMMARY:For teens: Handmade Holiday Craft Extravaganza
DESCRIPTION:Teens are invited to drop by the Friends Room and create a special project to celebrate the season or gift to a loved one.
X-ALT-DESC;FMTTYPE=text/html:<div style="text-align:center"><span style="color:rgb(0\, 0\, 0)\; font-family:arial\; font-size:14.6667px">Teens are invited to drop by the Friends Room and create a special project to celebrate the season or gift to a loved one.</span></div>\n
LOCATION:Matheson Memorial Library Friends Room
UID:e.2059.11196
SEQUENCE:3
DTSTAMP:20260420T054934Z
URL:https://business.elkhornchamber.com/events/details/for-teens-handmade-holiday-craft-extravaganza-11196
END:VEVENT

END:VCALENDAR
