BEGIN:VCALENDAR
VERSION:2.0
PRODID:-//ChamberMaster//Event Calendar 2.0//EN
METHOD:PUBLISH
X-PUBLISHED-TTL:P3D
REFRESH-INTERVAL:P3D
CALSCALE:GREGORIAN
BEGIN:VEVENT
DTSTART:20171117T003000Z
DTEND:20171117T020000Z
X-MICROSOFT-CDO-ALLDAYEVENT:FALSE
SUMMARY:Foods of the Fifties
DESCRIPTION:Please join us as educator Dennis Bulat takes us back in time to the era of Rock 'n Roll\, Poodle Skirts\, and Drive-Ins for a fun look back at what we loved to eat\, and what Fifties foods we're still enjoying!
X-ALT-DESC;FMTTYPE=text/html:<span style="color:rgb(0\, 0\, 0)\; font-family:arial\; font-size:12px">Please join us as educator Dennis Bulat takes us back in time to the era of Rock &lsquo\;n Roll\, Poodle Skirts\, and Drive-Ins for a fun look back at what we loved to eat\, and what Fifties foods we&rsquo\;re still enjoying!</span>
LOCATION:Matheson Memorial Library
UID:e.2059.6984
SEQUENCE:3
DTSTAMP:20260422T183552Z
URL:https://business.elkhornchamber.com/events/details/foods-of-the-fifties-6984
END:VEVENT

END:VCALENDAR
